BEGIN:VCALENDAR
VERSION:2.0
PRODID:-//333 Grand Street - ECPv6.15.20//NONSGML v1.0//EN
CALSCALE:GREGORIAN
METHOD:PUBLISH
X-ORIGINAL-URL:https://333grandstreet.libertyharbor.com
X-WR-CALDESC:Events for 333 Grand Street
REFRESH-INTERVAL;VALUE=DURATION:PT1H
X-Robots-Tag:noindex
X-PUBLISHED-TTL:PT1H
BEGIN:VTIMEZONE
TZID:UTC
BEGIN:STANDARD
TZOFFSETFROM:+0000
TZOFFSETTO:+0000
TZNAME:UTC
DTSTART:20170101T000000
END:STANDARD
END:VTIMEZONE
BEGIN:VEVENT
DTSTART;TZID=UTC:20190109T184500
DTEND;TZID=UTC:20190109T200000
DTSTAMP:20260421T131211
CREATED:20181204T160152Z
LAST-MODIFIED:20190201T143302Z
UID:1931-1547059500-1547064000@333grandstreet.libertyharbor.com
SUMMARY:Prenatal Support Group
DESCRIPTION:  \nCome together to get information and support each other during pregnancy in a nonjudgmental environment. Each meeting will have time to talk\, ask questions and share information while meeting new friends.\nWe will also discuss a topic that’s important to pregnancy and childbirth. Some topics of discussion are: birth plans\, baby care\, common birth interventions\, pelvic floor\, prenatal nutrition\, doulas\, navigating childcare and much more. \nWHERE:50 Regent Bar Room\nCost: $10 \nRSVP
URL:https://333grandstreet.libertyharbor.com/event/prenatal-support-group/
CATEGORIES:Baby Stuff
END:VEVENT
BEGIN:VEVENT
DTSTART;TZID=UTC:20181205T183000
DTEND;TZID=UTC:20181205T210000
DTSTAMP:20260421T131211
CREATED:20181108T185905Z
LAST-MODIFIED:20181114T143037Z
UID:1622-1544034600-1544043600@333grandstreet.libertyharbor.com
SUMMARY:Pediatric CPR Class
DESCRIPTION:The Pediatric First Aid CPR AED course is intended for anyone involved in childcare who has a duty to respond to illnesses and injuries in the first few minutes until professional help arrives. This audience includes\, but is not limited to: childcare workers\, teachers\, camp counselors\, youth organizations\, and coaches. It’s also ideal for: moms\, dads\, grandmas\, grandpas\, babysitters\, nannies\, and guardians. In this course\, one will learn some of the following: \n· preventative measures for a child’s safety\n· finding the problem\n· to learn the difference between infant CPR and child CPR\n· how to recognize if your child needs CPR\n· how to properly administer an Epi-Pen\n· how to use an AED\n· how to recognize if a child is choking\n· how to clear a child’s airway if he or she is choking \nUpon completion\, students will receive a comprehensive student handbook and wallet cards. \nTO RSVP:\nCopy & Paste this link: http://bit.ly/2pcuP7H \nCOST: $69 per person/ $138 per couple\nWHERE: 50 Regent Observatory\nDATES: \nDecember 5th – 6:30pm to 9:00 pm\nDecember 16th-11:00 am to 1:30 pm \nClasses are taught by Jason Mundy from NY Metro CPR. Liberty Harbor Residents and JC Bump and Baby Parents get priority rsvp\, however this event is open to the general Jersey City public.It is recommended to make child care arrangements for this event & NOT bring your children. \nAny questions\, please reach out to rsvp@libertyharbor.com or Jason Mundy at NY Metro CPR 212.784.6198
URL:https://333grandstreet.libertyharbor.com/event/pediatric-cpr-class/
CATEGORIES:Baby Stuff,Workshops
END:VEVENT
BEGIN:VEVENT
DTSTART;TZID=UTC:20181114T183000
DTEND;TZID=UTC:20181114T210000
DTSTAMP:20260421T131211
CREATED:20181108T194655Z
LAST-MODIFIED:20181114T143419Z
UID:1681-1542220200-1542229200@333grandstreet.libertyharbor.com
SUMMARY:Pediatric CPR Class
DESCRIPTION:The Pediatric First Aid CPR AED course is intended for anyone involved in childcare who has a duty to respond to illnesses and injuries in the first few minutes until professional help arrives. This audience includes\, but is not limited to: childcare workers\, teachers\, camp counselors\, youth organizations\, and coaches. It’s also ideal for: moms\, dads\, grandmas\, grandpas\, babysitters\, nannies\, and guardians. In this course\, one will learn some of the following: \n· preventative measures for a child’s safety\n· finding the problem\n· to learn the difference between infant CPR and child CPR\n· how to recognize if your child needs CPR\n· how to properly administer an Epi-Pen\n· how to use an AED\n· how to recognize if a child is choking\n· how to clear a child’s airway if he or she is choking \nUpon completion\, students will receive a comprehensive student handbook and wallet cards. \nTO RSVP:\nCopy & Paste this link: http://bit.ly/2pcuP7H \nCOST: $69 per person/ $138 per couple\nWHERE: 50 Regent Observatory\nDATES:\nDecember 5th – 6:30pm to 9:00 pm\nDecember 16th-11:00 am to 1:30 pm \nNovember 14th -SOLD OUT!!\nOctober 28th- SOLD OUT!! \nClasses are taught by Jason Mundy from NY Metro CPR. Liberty Harbor Residents and JC Bump and Baby Parents get priority rsvp\, however this event is open to the general Jersey City public.It is recommended to make child care arrangements for this event & NOT bring your children. \nAny questions\, please reach out to rsvp@libertyharbor.com or Jason Mundy at NY Metro CPR 212.784.6198
URL:https://333grandstreet.libertyharbor.com/event/pediatric-cpr-class-2/
CATEGORIES:Baby Stuff
END:VEVENT
BEGIN:VEVENT
DTSTART;TZID=UTC:20181112T110000
DTEND;TZID=UTC:20181112T123000
DTSTAMP:20260421T131211
CREATED:20181108T191816Z
LAST-MODIFIED:20181114T050909Z
UID:1654-1542020400-1542025800@333grandstreet.libertyharbor.com
SUMMARY:JC Bump and Baby-Bottle Feeding Support Group
DESCRIPTION:This monthly support group is led by Jayne Freeman\, postpartum doula and lactation counselor. It is additional support for all moms who are feeding by bottle – whether that’s breastmilk or formula. (we hope to see you at our weekly group as well) \nSome moms who are bottle-feeding need a more specific and directed style of support\, plus the ability to ask questions to their peers who usually have much to share on the topic. Though we will devote time to topic of feeding in this session all other topics that impact new moms will also be explored: Partner support\, back-to-work\, physical adjustments\, and sleep issues\, for example. New Moms Support Groups have been shown to reduce anxiety and minimize postpartum mood disorders. It’s important to have a safe space to discuss the array of emotions every woman feels as she grows comfortable with her role as a mother. \n  \n50 Regent Street\, 11th Floor Observatory Room
URL:https://333grandstreet.libertyharbor.com/event/jc-bump-and-baby-bottle-feeding-support-group/
CATEGORIES:Baby Stuff
END:VEVENT
BEGIN:VEVENT
DTSTART;TZID=UTC:20181111T093000
DTEND;TZID=UTC:20181111T103000
DTSTAMP:20260421T131211
CREATED:20181108T191600Z
LAST-MODIFIED:20190201T142917Z
UID:1645-1541928600-1541932200@333grandstreet.libertyharbor.com
SUMMARY:JC Bump & Baby Prenatal Yoga
DESCRIPTION:Prenatal yoga is a way to find comfort in your ever changing body. Through all facets of yoga: physical practice or movements\, breathing and meditation we will cultivate awareness and develop comfort measures so that you can connect with your baby. You will find the strength and confidence within you in order to prepare yourself for labor and new motherhood. This class will also provide a community of women with whom you are able to discuss the challenges you are facing as your body transitions into each stage of pregnancy. Various stages of pregnancy are welcome and no previous knowledge of yoga is necessary. \n  \n50 Regent Street\, 11th Floor Observatory Room \nCost:$20.00 per class-five class pass is $90.00 \nMat Rental is $1.00 \nRSVP
URL:https://333grandstreet.libertyharbor.com/event/jc-bump-baby-prenatal-yoga/
CATEGORIES:Baby Stuff
END:VEVENT
BEGIN:VEVENT
DTSTART;TZID=UTC:20181108T120000
DTEND;TZID=UTC:20181108T140000
DTSTAMP:20260421T131211
CREATED:20181108T194129Z
LAST-MODIFIED:20190201T143005Z
UID:1672-1541678400-1541685600@333grandstreet.libertyharbor.com
SUMMARY:JC Bump and Baby-New Moms Support Group with Michelle Goitia
DESCRIPTION:JC Bump and Baby- New Moms Support Group with Michelle Goitia \nCome together with new moms to share stories\, experiences and discuss all that comes with being a new mom. We will ask for advice or give advice and also remind one another to take care of yourself first so that you can be the best mom to your little one. \n  \n50 Regent Street\, 11th Floor Observatory Room \nCost: $10 per class\, 5 classes for $50 \nRSVP
URL:https://333grandstreet.libertyharbor.com/event/jc-bump-and-baby-new-moms-support-group-with-michelle-goitia/
CATEGORIES:Baby Stuff
END:VEVENT
BEGIN:VEVENT
DTSTART;TZID=UTC:20181108T110000
DTEND;TZID=UTC:20181108T120000
DTSTAMP:20260421T131211
CREATED:20181108T191250Z
LAST-MODIFIED:20190201T143121Z
UID:1637-1541674800-1541678400@333grandstreet.libertyharbor.com
SUMMARY:JC Bump and Baby -Itsy Bitsy® BABY Yoga with Michelle Goitia
DESCRIPTION:JC Bump and Baby -Itsy Bitsy® BABY Yoga with Michelle Goitia \n(ages 6 weeks to nearly crawling) contain dozens of unique yoga postures designed to support baby’s development. each class is filled with calming\, nurturing ways to enhance bonding and improve baby’s sleep. during a baby itsy bitsy yoga® class\, babies enjoy yoga while on their backs\, tummies\, or held in loving arms. for parents/caregivers\, this class is a special opportunity to meet other moms\, get support\, and learn about baby’s emerging personality. most of the yoga we do is for baby\, but you will also learn breathing and relaxation techniques as you practice a bit of yoga yourself. \n50 Regent Street\, 11th Floor Observatory \nCost: $20 per class\, 5 classes for $90 \nRSVP
URL:https://333grandstreet.libertyharbor.com/event/jc-bump-and-baby-itsy-bitsy-baby-yoga-with-michelle-goitia/
CATEGORIES:Baby Stuff
END:VEVENT
BEGIN:VEVENT
DTSTART;TZID=UTC:20181108T100000
DTEND;TZID=UTC:20181108T104500
DTSTAMP:20260421T131211
CREATED:20181108T190913Z
LAST-MODIFIED:20190201T142628Z
UID:1629-1541671200-1541673900@333grandstreet.libertyharbor.com
SUMMARY:JC Bump & Baby-Itsy Bitsy® TOT Yoga with Michelle Goitia
DESCRIPTION:  \nBond with your baby while supporting their development\, meet other parents/caregivers and learn some relaxation techniques every Thursday from 10:00am -10:45am. These classes are offered to young families across Jersey City. \n50 Regent Street\, 11th Floor Observatory\nCost: $20 per class\, 5 classes for $90 \nRSVP \n  \nMore details about the class from JC Bump and Baby: \nItsy Bitsy®TOT Yoga\n(crawling to early walking)\nis a supportive\, fun-loving\, and active yoga class. as tot’s mobility increases\, classes offer tot-centric poses that encourage and support their physical explorations. tots become more confident in their moving bodies as they practice yoga both in and out of class. during class crawlers and walkers playfully practice yoga postures while they are standing\, sitting up\, and walking. parents/caregivers also get to do a little yoga\, but no yoga experience is required.
URL:https://333grandstreet.libertyharbor.com/event/jc-bump-baby-itsy-bitsy-tot-yoga-with-michelle-goitia/
CATEGORIES:Baby Stuff
END:VEVENT
END:VCALENDAR