BEGIN:VCALENDAR
VERSION:2.0
PRODID:-//333 Grand Street - ECPv6.15.20//NONSGML v1.0//EN
CALSCALE:GREGORIAN
METHOD:PUBLISH
X-WR-CALNAME:333 Grand Street
X-ORIGINAL-URL:https://333grandstreet.libertyharbor.com
X-WR-CALDESC:Events for 333 Grand Street
REFRESH-INTERVAL;VALUE=DURATION:PT1H
X-Robots-Tag:noindex
X-PUBLISHED-TTL:PT1H
BEGIN:VTIMEZONE
TZID:UTC
BEGIN:STANDARD
TZOFFSETFROM:+0000
TZOFFSETTO:+0000
TZNAME:UTC
DTSTART:20250101T000000
END:STANDARD
END:VTIMEZONE
BEGIN:VEVENT
DTSTART;TZID=UTC:20260420T170000
DTEND;TZID=UTC:20260420T200000
DTSTAMP:20260420T114256
CREATED:20260226T105926Z
LAST-MODIFIED:20260226T105926Z
UID:21449-1776704400-1776715200@333grandstreet.libertyharbor.com
SUMMARY:Food Truck Mondays- King of the Wings
DESCRIPTION:Join with Google Meet: https://meet.google.com/bky-xcuu-chk\nOr dial: (US) +1 515-518-1058 PIN: 856247988#\nMore phone numbers: https://tel.meet/bky-xcuu-chk?pin=1443670664472&hs=7\nLearn more about Meet at: https://support.google.com/a/users/answer/9282720
URL:https://333grandstreet.libertyharbor.com/event/food-truck-mondays-king-of-the-wings-3/
END:VEVENT
BEGIN:VEVENT
DTSTART;TZID=UTC:20260420T190000
DTEND;TZID=UTC:20260420T210000
DTSTAMP:20260420T114256
CREATED:20260226T105926Z
LAST-MODIFIED:20260226T105926Z
UID:21450-1776711600-1776718800@333grandstreet.libertyharbor.com
SUMMARY:Golf League
DESCRIPTION:Join with Google Meet: https://meet.google.com/ufk-qkzn-vmd\nOr dial: (US) +1 980-285-3502 PIN: 892404095#\nMore phone numbers: https://tel.meet/ufk-qkzn-vmd?pin=8302324549628&hs=7\nLearn more about Meet at: https://support.google.com/a/users/answer/9282720
URL:https://333grandstreet.libertyharbor.com/event/golf-league-27/
END:VEVENT
END:VCALENDAR